BEGIN:VCALENDAR
VERSION:2.0
PRODID:-//Mairie de Cabestany - ECPv6.15.20//NONSGML v1.0//EN
CALSCALE:GREGORIAN
METHOD:PUBLISH
X-WR-CALNAME:Mairie de Cabestany
X-ORIGINAL-URL:https://ville-cabestany.fr
X-WR-CALDESC:Évènements pour Mairie de Cabestany
REFRESH-INTERVAL;VALUE=DURATION:PT1H
X-Robots-Tag:noindex
X-PUBLISHED-TTL:PT1H
BEGIN:VTIMEZONE
TZID:UTC
BEGIN:STANDARD
TZOFFSETFROM:+0000
TZOFFSETTO:+0000
TZNAME:UTC
DTSTART:20250101T000000
END:STANDARD
END:VTIMEZONE
BEGIN:VEVENT
DTSTART;VALUE=DATE:20260115
DTEND;VALUE=DATE:20260330
DTSTAMP:20260425T121654
CREATED:20251216T111609Z
LAST-MODIFIED:20260108T095718Z
UID:10005793-1768435200-1774828799@ville-cabestany.fr
SUMMARY:EXPOSITION « UN AUTRE MONDE ... »
DESCRIPTION:De Claudie Capdeville.\nOuverte de 10h à 12h30 et de 13h30 à 18h\, avec une fermeture de la billetterie à 17h15.\nEntrée gratuite pour les enfants -12 ans\, et habitants de Cabestany\, sur présentation d’un justificatif de domicile.\nTarifs : 2 € pour les minimas sociaux\, 3 € pour le Pass découvertes et 4 € en plein tarif.\nCentre de Sculpture Romane.
URL:https://ville-cabestany.fr/evenement/exposition-un-autre-monde/
CATEGORIES:Evénements - Agenda
END:VEVENT
BEGIN:VEVENT
DTSTART;TZID=UTC:20260302T100000
DTEND;TZID=UTC:20260304T170000
DTSTAMP:20260425T121654
CREATED:20260217T100122Z
LAST-MODIFIED:20260217T100122Z
UID:10005882-1772445600-1772643600@ville-cabestany.fr
SUMMARY:STAGE MULTISPORTS
DESCRIPTION:Pour les 11-17 ans. De 10h à 17h. 40€\nInscription le 16 février à l’Espace jeunesse ou N. Mandela.
URL:https://ville-cabestany.fr/evenement/stage-multisports-3/
CATEGORIES:Evénements - Agenda
END:VEVENT
BEGIN:VEVENT
DTSTART;TZID=UTC:20260304T100000
DTEND;TZID=UTC:20260304T163000
DTSTAMP:20260425T121654
CREATED:20260123T104315Z
LAST-MODIFIED:20260123T104518Z
UID:10005869-1772618400-1772641800@ville-cabestany.fr
SUMMARY:STAGE ENFANTS « PAPILLON-AQUARELLE »
DESCRIPTION:Dès 8 ans.\nDe 10h à 12h30 et de 14h à 16h30.\n10€.\nInscription Centre de Sculpture Romane.
URL:https://ville-cabestany.fr/evenement/stage-enfants-papillon-aquarelle/
CATEGORIES:Evénements - Agenda
END:VEVENT
END:VCALENDAR