BEGIN:VCALENDAR
VERSION:2.0
PRODID:-//Mairie de Cabestany - ECPv6.15.20//NONSGML v1.0//EN
CALSCALE:GREGORIAN
METHOD:PUBLISH
X-ORIGINAL-URL:https://ville-cabestany.fr
X-WR-CALDESC:Évènements pour Mairie de Cabestany
REFRESH-INTERVAL;VALUE=DURATION:PT1H
X-Robots-Tag:noindex
X-PUBLISHED-TTL:PT1H
BEGIN:VTIMEZONE
TZID:UTC
BEGIN:STANDARD
TZOFFSETFROM:+0000
TZOFFSETTO:+0000
TZNAME:UTC
DTSTART:20250101T000000
END:STANDARD
END:VTIMEZONE
BEGIN:VEVENT
DTSTART;VALUE=DATE:20260115
DTEND;VALUE=DATE:20260330
DTSTAMP:20260425T122239
CREATED:20251216T111609Z
LAST-MODIFIED:20260108T095718Z
UID:10005793-1768435200-1774828799@ville-cabestany.fr
SUMMARY:EXPOSITION « UN AUTRE MONDE ... »
DESCRIPTION:De Claudie Capdeville.\nOuverte de 10h à 12h30 et de 13h30 à 18h\, avec une fermeture de la billetterie à 17h15.\nEntrée gratuite pour les enfants -12 ans\, et habitants de Cabestany\, sur présentation d’un justificatif de domicile.\nTarifs : 2 € pour les minimas sociaux\, 3 € pour le Pass découvertes et 4 € en plein tarif.\nCentre de Sculpture Romane.
URL:https://ville-cabestany.fr/evenement/exposition-un-autre-monde/
CATEGORIES:Evénements - Agenda
END:VEVENT
BEGIN:VEVENT
DTSTART;TZID=UTC:20260321T100000
DTEND;TZID=UTC:20260321T114500
DTSTAMP:20260425T122239
CREATED:20260123T104824Z
LAST-MODIFIED:20260123T104824Z
UID:10005873-1774087200-1774093500@ville-cabestany.fr
SUMMARY:POURQUOI CI\, POURQUOI ÇA ?
DESCRIPTION:Dès 7 ans. De 10h à 11h45.\nInscription bibliothèque.
URL:https://ville-cabestany.fr/evenement/pourquoi-ci-pourquoi-ca-3/
CATEGORIES:Evénements - Agenda
END:VEVENT
BEGIN:VEVENT
DTSTART;TZID=UTC:20260321T100000
DTEND;TZID=UTC:20260321T123000
DTSTAMP:20260425T122239
CREATED:20260123T104932Z
LAST-MODIFIED:20260123T104932Z
UID:10005874-1774087200-1774096200@ville-cabestany.fr
SUMMARY:STAGE ENFANT-PARENT « JUNGLE-AQUARELLE »
DESCRIPTION:De 3 à 7 ans. De 10h à 12h30.\nTarif duo : 10€ Cabestany.\nInscription Centre de Sculpture Romane.
URL:https://ville-cabestany.fr/evenement/stage-enfant-parent-jungle-aquarelle/
CATEGORIES:Evénements - Agenda
END:VEVENT
BEGIN:VEVENT
DTSTART;TZID=UTC:20260321T143000
DTEND;TZID=UTC:20260321T153000
DTSTAMP:20260425T122239
CREATED:20260123T102009Z
LAST-MODIFIED:20260123T102009Z
UID:10005851-1774103400-1774107000@ville-cabestany.fr
SUMMARY:ATELIER D’ÉCRITURE PRINTEMPS DES POÈTES
DESCRIPTION:Ados/adultes. À 14h30.\nInscription bibliothèque.
URL:https://ville-cabestany.fr/evenement/atelier-decriture-printemps-des-poetes/
CATEGORIES:Evénements - Agenda
END:VEVENT
END:VCALENDAR