BEGIN:VCALENDAR
VERSION:2.0
PRODID:-//Mairie de Cabestany - ECPv6.15.20//NONSGML v1.0//EN
CALSCALE:GREGORIAN
METHOD:PUBLISH
X-ORIGINAL-URL:https://ville-cabestany.fr
X-WR-CALDESC:Évènements pour Mairie de Cabestany
REFRESH-INTERVAL;VALUE=DURATION:PT1H
X-Robots-Tag:noindex
X-PUBLISHED-TTL:PT1H
BEGIN:VTIMEZONE
TZID:UTC
BEGIN:STANDARD
TZOFFSETFROM:+0000
TZOFFSETTO:+0000
TZNAME:UTC
DTSTART:20250101T000000
END:STANDARD
END:VTIMEZONE
BEGIN:VEVENT
DTSTART;VALUE=DATE:20260115
DTEND;VALUE=DATE:20260330
DTSTAMP:20260425T122254
CREATED:20251216T111609Z
LAST-MODIFIED:20260108T095718Z
UID:10005793-1768435200-1774828799@ville-cabestany.fr
SUMMARY:EXPOSITION « UN AUTRE MONDE ... »
DESCRIPTION:De Claudie Capdeville.\nOuverte de 10h à 12h30 et de 13h30 à 18h\, avec une fermeture de la billetterie à 17h15.\nEntrée gratuite pour les enfants -12 ans\, et habitants de Cabestany\, sur présentation d’un justificatif de domicile.\nTarifs : 2 € pour les minimas sociaux\, 3 € pour le Pass découvertes et 4 € en plein tarif.\nCentre de Sculpture Romane.
URL:https://ville-cabestany.fr/evenement/exposition-un-autre-monde/
CATEGORIES:Evénements - Agenda
END:VEVENT
BEGIN:VEVENT
DTSTART;TZID=UTC:20260326T080000
DTEND;TZID=UTC:20260326T120000
DTSTAMP:20260425T122254
CREATED:20250401T142327Z
LAST-MODIFIED:20250416T220518Z
UID:10000637-1774512000-1774526400@ville-cabestany.fr
SUMMARY:MARCHÉ
DESCRIPTION:De 8h à 12h. Place du 8 mai 1945.
URL:https://ville-cabestany.fr/evenement/marche-2/2026-03-26/
CATEGORIES:Evénements - Agenda
ATTACH;FMTTYPE=image/webp:https://ville-cabestany.fr/wp-content/uploads/2025/04/farmers-food-market-stall-with-variety-organic-vegetable-scaled-1.webp
END:VEVENT
BEGIN:VEVENT
DTSTART;TZID=UTC:20260326T093000
DTEND;TZID=UTC:20260326T110000
DTSTAMP:20260425T122254
CREATED:20250610T134217Z
LAST-MODIFIED:20250610T134217Z
UID:10004475-1774517400-1774522800@ville-cabestany.fr
SUMMARY:MARCHES DU CCAS
DESCRIPTION:Départ à 9h30 de la cave coopérative
URL:https://ville-cabestany.fr/evenement/marches-du-ccas/2026-03-26/
CATEGORIES:Evénements - Agenda
END:VEVENT
END:VCALENDAR