BEGIN:VCALENDAR
VERSION:2.0
PRODID:-//Mairie de Cabestany - ECPv6.15.20//NONSGML v1.0//EN
CALSCALE:GREGORIAN
METHOD:PUBLISH
X-WR-CALNAME:Mairie de Cabestany
X-ORIGINAL-URL:https://ville-cabestany.fr
X-WR-CALDESC:Évènements pour Mairie de Cabestany
REFRESH-INTERVAL;VALUE=DURATION:PT1H
X-Robots-Tag:noindex
X-PUBLISHED-TTL:PT1H
BEGIN:VTIMEZONE
TZID:UTC
BEGIN:STANDARD
TZOFFSETFROM:+0000
TZOFFSETTO:+0000
TZNAME:UTC
DTSTART:20250101T000000
END:STANDARD
END:VTIMEZONE
BEGIN:VEVENT
DTSTART;VALUE=DATE:20260401
DTEND;VALUE=DATE:20260501
DTSTAMP:20260423T143338
CREATED:20260403T092436Z
LAST-MODIFIED:20260403T092503Z
UID:10008529-1775001600-1777593599@ville-cabestany.fr
SUMMARY:EXPOSITION « TWIN IT »
DESCRIPTION:Du 1er au 30 avril\nBibliothèque\, aux jours d’ouverture.
URL:https://ville-cabestany.fr/evenement/exposition-twin-it/
CATEGORIES:Evénements - Agenda
END:VEVENT
BEGIN:VEVENT
DTSTART;TZID=UTC:20260409T100000
DTEND;TZID=UTC:20260623T180000
DTSTAMP:20260423T143338
CREATED:20260403T122756Z
LAST-MODIFIED:20260403T122756Z
UID:10012031-1775728800-1782237600@ville-cabestany.fr
SUMMARY:EXPOSITION “STANDING STILL”
DESCRIPTION:De Victoria Milroy.\nMardi au dimanche (10h-12h30/ 13h30-18h\, fermeture billetterie 17h15).\nDu 9 avril au 23 juin au Centre de Sculpture Romane.
URL:https://ville-cabestany.fr/evenement/exposition-standing-still/
CATEGORIES:Evénements - Agenda
END:VEVENT
BEGIN:VEVENT
DTSTART;TZID=UTC:20260423T080000
DTEND;TZID=UTC:20260423T120000
DTSTAMP:20260423T143338
CREATED:20250401T142327Z
LAST-MODIFIED:20250416T220518Z
UID:10000641-1776931200-1776945600@ville-cabestany.fr
SUMMARY:MARCHÉ
DESCRIPTION:De 8h à 12h. Place du 8 mai 1945.
URL:https://ville-cabestany.fr/evenement/marche-2/2026-04-23/
CATEGORIES:Evénements - Agenda
ATTACH;FMTTYPE=image/webp:https://ville-cabestany.fr/wp-content/uploads/2025/04/farmers-food-market-stall-with-variety-organic-vegetable-scaled-1.webp
END:VEVENT
BEGIN:VEVENT
DTSTART;TZID=UTC:20260423T093000
DTEND;TZID=UTC:20260423T110000
DTSTAMP:20260423T143338
CREATED:20250610T134217Z
LAST-MODIFIED:20250610T134217Z
UID:10004479-1776936600-1776942000@ville-cabestany.fr
SUMMARY:MARCHES DU CCAS
DESCRIPTION:Départ à 9h30 de la cave coopérative
URL:https://ville-cabestany.fr/evenement/marches-du-ccas/2026-04-23/
CATEGORIES:Evénements - Agenda
END:VEVENT
BEGIN:VEVENT
DTSTART;TZID=UTC:20260423T140000
DTEND;TZID=UTC:20260423T160000
DTSTAMP:20260423T143338
CREATED:20260403T132300Z
LAST-MODIFIED:20260403T132300Z
UID:10012049-1776952800-1776960000@ville-cabestany.fr
SUMMARY:LUDORUE
DESCRIPTION:Avec la Maison des quartiers.\nParc Guilhem.
URL:https://ville-cabestany.fr/evenement/ludorue-4/
CATEGORIES:Evénements - Agenda
END:VEVENT
BEGIN:VEVENT
DTSTART;TZID=UTC:20260423T150000
DTEND;TZID=UTC:20260423T170000
DTSTAMP:20260423T143338
CREATED:20260403T092229Z
LAST-MODIFIED:20260403T092229Z
UID:10008527-1776956400-1776963600@ville-cabestany.fr
SUMMARY:FÊTE SANT JORDI
DESCRIPTION:Dès 4 ans accompagnés.\nLectures en catalan et atelier créatif.\nBibliothèque.
URL:https://ville-cabestany.fr/evenement/fete-sant-jordi/
CATEGORIES:Evénements - Agenda
END:VEVENT
BEGIN:VEVENT
DTSTART;TZID=UTC:20260423T184500
DTEND;TZID=UTC:20260423T203000
DTSTAMP:20260423T143338
CREATED:20260403T132412Z
LAST-MODIFIED:20260403T132412Z
UID:10012050-1776969900-1776976200@ville-cabestany.fr
SUMMARY:FESTIVAL EN KIT
DESCRIPTION:Concerts. Tremplin musical pour les jeunes. Avec la Fdfr66.\nCentre culturel.
URL:https://ville-cabestany.fr/evenement/festival-en-kit-2/
CATEGORIES:Evénements - Agenda
END:VEVENT
END:VCALENDAR