BEGIN:VCALENDAR
VERSION:2.0
PRODID:-//Mairie de Cabestany - ECPv6.15.20//NONSGML v1.0//EN
CALSCALE:GREGORIAN
METHOD:PUBLISH
X-WR-CALNAME:Mairie de Cabestany
X-ORIGINAL-URL:https://ville-cabestany.fr
X-WR-CALDESC:Évènements pour Mairie de Cabestany
REFRESH-INTERVAL;VALUE=DURATION:PT1H
X-Robots-Tag:noindex
X-PUBLISHED-TTL:PT1H
BEGIN:VTIMEZONE
TZID:UTC
BEGIN:STANDARD
TZOFFSETFROM:+0000
TZOFFSETTO:+0000
TZNAME:UTC
DTSTART:20250101T000000
END:STANDARD
END:VTIMEZONE
BEGIN:VEVENT
DTSTART;TZID=UTC:20260428T173000
DTEND;TZID=UTC:20260428T180000
DTSTAMP:20260425T122319
CREATED:20260217T102812Z
LAST-MODIFIED:20260217T103232Z
UID:10007994-1777397400-1777399200@ville-cabestany.fr
SUMMARY:LE P’TIT RAT CONTEUR
DESCRIPTION:De 4 à 8 ans. De 17h30 à 18h.
URL:https://ville-cabestany.fr/evenement/le-ptit-rat-conteur/2026-04-28/
CATEGORIES:Evénements - Agenda
END:VEVENT
BEGIN:VEVENT
DTSTART;TZID=UTC:20260505T173000
DTEND;TZID=UTC:20260505T180000
DTSTAMP:20260425T122319
CREATED:20260217T102812Z
LAST-MODIFIED:20260217T103232Z
UID:10007995-1778002200-1778004000@ville-cabestany.fr
SUMMARY:LE P’TIT RAT CONTEUR
DESCRIPTION:De 4 à 8 ans. De 17h30 à 18h.
URL:https://ville-cabestany.fr/evenement/le-ptit-rat-conteur/2026-05-05/
CATEGORIES:Evénements - Agenda
END:VEVENT
BEGIN:VEVENT
DTSTART;TZID=UTC:20260512T173000
DTEND;TZID=UTC:20260512T180000
DTSTAMP:20260425T122320
CREATED:20260217T102812Z
LAST-MODIFIED:20260217T103232Z
UID:10007996-1778607000-1778608800@ville-cabestany.fr
SUMMARY:LE P’TIT RAT CONTEUR
DESCRIPTION:De 4 à 8 ans. De 17h30 à 18h.
URL:https://ville-cabestany.fr/evenement/le-ptit-rat-conteur/2026-05-12/
CATEGORIES:Evénements - Agenda
END:VEVENT
BEGIN:VEVENT
DTSTART;TZID=UTC:20260519T173000
DTEND;TZID=UTC:20260519T180000
DTSTAMP:20260425T122320
CREATED:20260217T102812Z
LAST-MODIFIED:20260217T103232Z
UID:10007997-1779211800-1779213600@ville-cabestany.fr
SUMMARY:LE P’TIT RAT CONTEUR
DESCRIPTION:De 4 à 8 ans. De 17h30 à 18h.
URL:https://ville-cabestany.fr/evenement/le-ptit-rat-conteur/2026-05-19/
CATEGORIES:Evénements - Agenda
END:VEVENT
BEGIN:VEVENT
DTSTART;TZID=UTC:20260526T173000
DTEND;TZID=UTC:20260526T180000
DTSTAMP:20260425T122320
CREATED:20260217T102812Z
LAST-MODIFIED:20260217T103232Z
UID:10007998-1779816600-1779818400@ville-cabestany.fr
SUMMARY:LE P’TIT RAT CONTEUR
DESCRIPTION:De 4 à 8 ans. De 17h30 à 18h.
URL:https://ville-cabestany.fr/evenement/le-ptit-rat-conteur/2026-05-26/
CATEGORIES:Evénements - Agenda
END:VEVENT
BEGIN:VEVENT
DTSTART;TZID=UTC:20260602T173000
DTEND;TZID=UTC:20260602T180000
DTSTAMP:20260425T122320
CREATED:20260217T102812Z
LAST-MODIFIED:20260217T103232Z
UID:10007999-1780421400-1780423200@ville-cabestany.fr
SUMMARY:LE P’TIT RAT CONTEUR
DESCRIPTION:De 4 à 8 ans. De 17h30 à 18h.
URL:https://ville-cabestany.fr/evenement/le-ptit-rat-conteur/2026-06-02/
CATEGORIES:Evénements - Agenda
END:VEVENT
BEGIN:VEVENT
DTSTART;TZID=UTC:20260609T173000
DTEND;TZID=UTC:20260609T180000
DTSTAMP:20260425T122320
CREATED:20260217T102812Z
LAST-MODIFIED:20260217T103232Z
UID:10008000-1781026200-1781028000@ville-cabestany.fr
SUMMARY:LE P’TIT RAT CONTEUR
DESCRIPTION:De 4 à 8 ans. De 17h30 à 18h.
URL:https://ville-cabestany.fr/evenement/le-ptit-rat-conteur/2026-06-09/
CATEGORIES:Evénements - Agenda
END:VEVENT
BEGIN:VEVENT
DTSTART;TZID=UTC:20260616T173000
DTEND;TZID=UTC:20260616T180000
DTSTAMP:20260425T122320
CREATED:20260217T102812Z
LAST-MODIFIED:20260217T103232Z
UID:10008001-1781631000-1781632800@ville-cabestany.fr
SUMMARY:LE P’TIT RAT CONTEUR
DESCRIPTION:De 4 à 8 ans. De 17h30 à 18h.
URL:https://ville-cabestany.fr/evenement/le-ptit-rat-conteur/2026-06-16/
CATEGORIES:Evénements - Agenda
END:VEVENT
BEGIN:VEVENT
DTSTART;TZID=UTC:20260623T173000
DTEND;TZID=UTC:20260623T180000
DTSTAMP:20260425T122320
CREATED:20260217T102812Z
LAST-MODIFIED:20260217T103232Z
UID:10008002-1782235800-1782237600@ville-cabestany.fr
SUMMARY:LE P’TIT RAT CONTEUR
DESCRIPTION:De 4 à 8 ans. De 17h30 à 18h.
URL:https://ville-cabestany.fr/evenement/le-ptit-rat-conteur/2026-06-23/
CATEGORIES:Evénements - Agenda
END:VEVENT
BEGIN:VEVENT
DTSTART;TZID=UTC:20260630T173000
DTEND;TZID=UTC:20260630T180000
DTSTAMP:20260425T122320
CREATED:20260217T102812Z
LAST-MODIFIED:20260217T103232Z
UID:10008003-1782840600-1782842400@ville-cabestany.fr
SUMMARY:LE P’TIT RAT CONTEUR
DESCRIPTION:De 4 à 8 ans. De 17h30 à 18h.
URL:https://ville-cabestany.fr/evenement/le-ptit-rat-conteur/2026-06-30/
CATEGORIES:Evénements - Agenda
END:VEVENT
BEGIN:VEVENT
DTSTART;TZID=UTC:20260707T173000
DTEND;TZID=UTC:20260707T180000
DTSTAMP:20260425T122320
CREATED:20260217T102812Z
LAST-MODIFIED:20260217T103232Z
UID:10008004-1783445400-1783447200@ville-cabestany.fr
SUMMARY:LE P’TIT RAT CONTEUR
DESCRIPTION:De 4 à 8 ans. De 17h30 à 18h.
URL:https://ville-cabestany.fr/evenement/le-ptit-rat-conteur/2026-07-07/
CATEGORIES:Evénements - Agenda
END:VEVENT
BEGIN:VEVENT
DTSTART;TZID=UTC:20260714T173000
DTEND;TZID=UTC:20260714T180000
DTSTAMP:20260425T122320
CREATED:20260217T102812Z
LAST-MODIFIED:20260217T103232Z
UID:10008005-1784050200-1784052000@ville-cabestany.fr
SUMMARY:LE P’TIT RAT CONTEUR
DESCRIPTION:De 4 à 8 ans. De 17h30 à 18h.
URL:https://ville-cabestany.fr/evenement/le-ptit-rat-conteur/2026-07-14/
CATEGORIES:Evénements - Agenda
END:VEVENT
BEGIN:VEVENT
DTSTART;TZID=UTC:20260721T173000
DTEND;TZID=UTC:20260721T180000
DTSTAMP:20260425T122320
CREATED:20260217T102812Z
LAST-MODIFIED:20260217T103232Z
UID:10008006-1784655000-1784656800@ville-cabestany.fr
SUMMARY:LE P’TIT RAT CONTEUR
DESCRIPTION:De 4 à 8 ans. De 17h30 à 18h.
URL:https://ville-cabestany.fr/evenement/le-ptit-rat-conteur/2026-07-21/
CATEGORIES:Evénements - Agenda
END:VEVENT
BEGIN:VEVENT
DTSTART;TZID=UTC:20260728T173000
DTEND;TZID=UTC:20260728T180000
DTSTAMP:20260425T122320
CREATED:20260217T102812Z
LAST-MODIFIED:20260217T103232Z
UID:10008007-1785259800-1785261600@ville-cabestany.fr
SUMMARY:LE P’TIT RAT CONTEUR
DESCRIPTION:De 4 à 8 ans. De 17h30 à 18h.
URL:https://ville-cabestany.fr/evenement/le-ptit-rat-conteur/2026-07-28/
CATEGORIES:Evénements - Agenda
END:VEVENT
BEGIN:VEVENT
DTSTART;TZID=UTC:20260804T173000
DTEND;TZID=UTC:20260804T180000
DTSTAMP:20260425T122320
CREATED:20260217T102812Z
LAST-MODIFIED:20260217T103232Z
UID:10008008-1785864600-1785866400@ville-cabestany.fr
SUMMARY:LE P’TIT RAT CONTEUR
DESCRIPTION:De 4 à 8 ans. De 17h30 à 18h.
URL:https://ville-cabestany.fr/evenement/le-ptit-rat-conteur/2026-08-04/
CATEGORIES:Evénements - Agenda
END:VEVENT
BEGIN:VEVENT
DTSTART;TZID=UTC:20260811T173000
DTEND;TZID=UTC:20260811T180000
DTSTAMP:20260425T122320
CREATED:20260217T102812Z
LAST-MODIFIED:20260217T103232Z
UID:10008009-1786469400-1786471200@ville-cabestany.fr
SUMMARY:LE P’TIT RAT CONTEUR
DESCRIPTION:De 4 à 8 ans. De 17h30 à 18h.
URL:https://ville-cabestany.fr/evenement/le-ptit-rat-conteur/2026-08-11/
CATEGORIES:Evénements - Agenda
END:VEVENT
BEGIN:VEVENT
DTSTART;TZID=UTC:20260818T173000
DTEND;TZID=UTC:20260818T180000
DTSTAMP:20260425T122320
CREATED:20260217T102812Z
LAST-MODIFIED:20260217T103232Z
UID:10008010-1787074200-1787076000@ville-cabestany.fr
SUMMARY:LE P’TIT RAT CONTEUR
DESCRIPTION:De 4 à 8 ans. De 17h30 à 18h.
URL:https://ville-cabestany.fr/evenement/le-ptit-rat-conteur/2026-08-18/
CATEGORIES:Evénements - Agenda
END:VEVENT
BEGIN:VEVENT
DTSTART;TZID=UTC:20260825T173000
DTEND;TZID=UTC:20260825T180000
DTSTAMP:20260425T122320
CREATED:20260217T102812Z
LAST-MODIFIED:20260217T103232Z
UID:10008011-1787679000-1787680800@ville-cabestany.fr
SUMMARY:LE P’TIT RAT CONTEUR
DESCRIPTION:De 4 à 8 ans. De 17h30 à 18h.
URL:https://ville-cabestany.fr/evenement/le-ptit-rat-conteur/2026-08-25/
CATEGORIES:Evénements - Agenda
END:VEVENT
BEGIN:VEVENT
DTSTART;TZID=UTC:20260901T173000
DTEND;TZID=UTC:20260901T180000
DTSTAMP:20260425T122320
CREATED:20260217T102812Z
LAST-MODIFIED:20260217T103232Z
UID:10008012-1788283800-1788285600@ville-cabestany.fr
SUMMARY:LE P’TIT RAT CONTEUR
DESCRIPTION:De 4 à 8 ans. De 17h30 à 18h.
URL:https://ville-cabestany.fr/evenement/le-ptit-rat-conteur/2026-09-01/
CATEGORIES:Evénements - Agenda
END:VEVENT
BEGIN:VEVENT
DTSTART;TZID=UTC:20260908T173000
DTEND;TZID=UTC:20260908T180000
DTSTAMP:20260425T122320
CREATED:20260217T102812Z
LAST-MODIFIED:20260217T103232Z
UID:10008013-1788888600-1788890400@ville-cabestany.fr
SUMMARY:LE P’TIT RAT CONTEUR
DESCRIPTION:De 4 à 8 ans. De 17h30 à 18h.
URL:https://ville-cabestany.fr/evenement/le-ptit-rat-conteur/2026-09-08/
CATEGORIES:Evénements - Agenda
END:VEVENT
BEGIN:VEVENT
DTSTART;TZID=UTC:20260915T173000
DTEND;TZID=UTC:20260915T180000
DTSTAMP:20260425T122320
CREATED:20260217T102812Z
LAST-MODIFIED:20260217T103232Z
UID:10008014-1789493400-1789495200@ville-cabestany.fr
SUMMARY:LE P’TIT RAT CONTEUR
DESCRIPTION:De 4 à 8 ans. De 17h30 à 18h.
URL:https://ville-cabestany.fr/evenement/le-ptit-rat-conteur/2026-09-15/
CATEGORIES:Evénements - Agenda
END:VEVENT
BEGIN:VEVENT
DTSTART;TZID=UTC:20260922T173000
DTEND;TZID=UTC:20260922T180000
DTSTAMP:20260425T122320
CREATED:20260217T102812Z
LAST-MODIFIED:20260217T103232Z
UID:10008015-1790098200-1790100000@ville-cabestany.fr
SUMMARY:LE P’TIT RAT CONTEUR
DESCRIPTION:De 4 à 8 ans. De 17h30 à 18h.
URL:https://ville-cabestany.fr/evenement/le-ptit-rat-conteur/2026-09-22/
CATEGORIES:Evénements - Agenda
END:VEVENT
BEGIN:VEVENT
DTSTART;TZID=UTC:20260929T173000
DTEND;TZID=UTC:20260929T180000
DTSTAMP:20260425T122320
CREATED:20260217T102812Z
LAST-MODIFIED:20260217T103232Z
UID:10008016-1790703000-1790704800@ville-cabestany.fr
SUMMARY:LE P’TIT RAT CONTEUR
DESCRIPTION:De 4 à 8 ans. De 17h30 à 18h.
URL:https://ville-cabestany.fr/evenement/le-ptit-rat-conteur/2026-09-29/
CATEGORIES:Evénements - Agenda
END:VEVENT
BEGIN:VEVENT
DTSTART;TZID=UTC:20261006T173000
DTEND;TZID=UTC:20261006T180000
DTSTAMP:20260425T122320
CREATED:20260217T102812Z
LAST-MODIFIED:20260217T103232Z
UID:10008017-1791307800-1791309600@ville-cabestany.fr
SUMMARY:LE P’TIT RAT CONTEUR
DESCRIPTION:De 4 à 8 ans. De 17h30 à 18h.
URL:https://ville-cabestany.fr/evenement/le-ptit-rat-conteur/2026-10-06/
CATEGORIES:Evénements - Agenda
END:VEVENT
BEGIN:VEVENT
DTSTART;TZID=UTC:20261013T173000
DTEND;TZID=UTC:20261013T180000
DTSTAMP:20260425T122320
CREATED:20260217T102812Z
LAST-MODIFIED:20260217T103232Z
UID:10008018-1791912600-1791914400@ville-cabestany.fr
SUMMARY:LE P’TIT RAT CONTEUR
DESCRIPTION:De 4 à 8 ans. De 17h30 à 18h.
URL:https://ville-cabestany.fr/evenement/le-ptit-rat-conteur/2026-10-13/
CATEGORIES:Evénements - Agenda
END:VEVENT
BEGIN:VEVENT
DTSTART;TZID=UTC:20261020T173000
DTEND;TZID=UTC:20261020T180000
DTSTAMP:20260425T122320
CREATED:20260217T102812Z
LAST-MODIFIED:20260217T103232Z
UID:10008019-1792517400-1792519200@ville-cabestany.fr
SUMMARY:LE P’TIT RAT CONTEUR
DESCRIPTION:De 4 à 8 ans. De 17h30 à 18h.
URL:https://ville-cabestany.fr/evenement/le-ptit-rat-conteur/2026-10-20/
CATEGORIES:Evénements - Agenda
END:VEVENT
BEGIN:VEVENT
DTSTART;TZID=UTC:20261027T173000
DTEND;TZID=UTC:20261027T180000
DTSTAMP:20260425T122320
CREATED:20260217T102812Z
LAST-MODIFIED:20260217T103232Z
UID:10008020-1793122200-1793124000@ville-cabestany.fr
SUMMARY:LE P’TIT RAT CONTEUR
DESCRIPTION:De 4 à 8 ans. De 17h30 à 18h.
URL:https://ville-cabestany.fr/evenement/le-ptit-rat-conteur/2026-10-27/
CATEGORIES:Evénements - Agenda
END:VEVENT
BEGIN:VEVENT
DTSTART;TZID=UTC:20261103T173000
DTEND;TZID=UTC:20261103T180000
DTSTAMP:20260425T122320
CREATED:20260217T102812Z
LAST-MODIFIED:20260217T103232Z
UID:10008021-1793727000-1793728800@ville-cabestany.fr
SUMMARY:LE P’TIT RAT CONTEUR
DESCRIPTION:De 4 à 8 ans. De 17h30 à 18h.
URL:https://ville-cabestany.fr/evenement/le-ptit-rat-conteur/2026-11-03/
CATEGORIES:Evénements - Agenda
END:VEVENT
BEGIN:VEVENT
DTSTART;TZID=UTC:20261110T173000
DTEND;TZID=UTC:20261110T180000
DTSTAMP:20260425T122320
CREATED:20260217T102812Z
LAST-MODIFIED:20260217T103232Z
UID:10008022-1794331800-1794333600@ville-cabestany.fr
SUMMARY:LE P’TIT RAT CONTEUR
DESCRIPTION:De 4 à 8 ans. De 17h30 à 18h.
URL:https://ville-cabestany.fr/evenement/le-ptit-rat-conteur/2026-11-10/
CATEGORIES:Evénements - Agenda
END:VEVENT
BEGIN:VEVENT
DTSTART;TZID=UTC:20261117T173000
DTEND;TZID=UTC:20261117T180000
DTSTAMP:20260425T122320
CREATED:20260217T102812Z
LAST-MODIFIED:20260217T103232Z
UID:10008023-1794936600-1794938400@ville-cabestany.fr
SUMMARY:LE P’TIT RAT CONTEUR
DESCRIPTION:De 4 à 8 ans. De 17h30 à 18h.
URL:https://ville-cabestany.fr/evenement/le-ptit-rat-conteur/2026-11-17/
CATEGORIES:Evénements - Agenda
END:VEVENT
END:VCALENDAR